BEGIN:VCALENDAR
VERSION:2.0
PRODID:-//Asian American Action Fund - ECPv5.6.0//NONSGML v1.0//EN
CALSCALE:GREGORIAN
METHOD:PUBLISH
X-WR-CALNAME:Asian American Action Fund
X-ORIGINAL-URL:https://aaafund.org
X-WR-CALDESC:Events for Asian American Action Fund
BEGIN:VTIMEZONE
TZID:America/New_York
BEGIN:DAYLIGHT
TZOFFSETFROM:-0500
TZOFFSETTO:-0400
TZNAME:EDT
DTSTART:20190310T070000
END:DAYLIGHT
BEGIN:STANDARD
TZOFFSETFROM:-0400
TZOFFSETTO:-0500
TZNAME:EST
DTSTART:20191103T060000
END:STANDARD
END:VTIMEZONE
BEGIN:VEVENT
DTSTART;TZID=America/New_York:20190513T120000
DTEND;TZID=America/New_York:20190513T170000
DTSTAMP:20210527T154401
CREATED:20190416T170510Z
LAST-MODIFIED:20190416T170635Z
UID:1401-1557748800-1557766800@aaafund.org
SUMMARY:3rd Annual AAPI Progressive Summit
DESCRIPTION:AAPI Progressive Action AAPI Victory Fund are excited to announce their 3rd Annual AAPI Progressive Summit this May in Washington\, DC! They have an excellent lineup of speakers and a full-day program ready for you! \n  \nJoin them for the day as they convene the top AAPI leaders in our community\, key decision makers\, and several Members of Congress. \n  \nRegister TODAY to reserve your spot!  \n AAPI PROGRESSIVE SUMMIT  May 13\, 2019 | 12:00-5:00 PM AFL-CIO  815 16th Street NW \nAAPI PROGRESSIVE RECEPTION  May 15\, 2019 | 5:30-7:30 PM Nelson Mullins 101 Constitution Avenue NW
URL:https://aaafund.org/event/3rd-annual-aapi-progressive-summit/
CATEGORIES:AAPI Progressive Action,AAPI Victory Fund
END:VEVENT
END:VCALENDAR